{
 "currentVersion": 10.31,
 "serviceDescription": "dark version Basemap WGS",
 "mapName": "Layers",
 "description": "",
 "copyrightText": "Telkom SA",
 "supportsDynamicLayers": false,
 "layers": [
  {
   "id": 0,
   "name": "Tele_Atlas_TOWNS",
   "parentLayerId": -1,
   "defaultVisibility": true,
   "subLayerIds": null,
   "minScale": 19000000,
   "maxScale": 3000000
  },
  {
   "id": 1,
   "name": "Tele_Atlas_TOWNS",
   "parentLayerId": -1,
   "defaultVisibility": true,
   "subLayerIds": null,
   "minScale": 3000000,
   "maxScale": 288895.277144
  },
  {
   "id": 2,
   "name": "Tele_Atlas_TOWNS",
   "parentLayerId": -1,
   "defaultVisibility": true,
   "subLayerIds": null,
   "minScale": 288895.277144,
   "maxScale": 5000
  },
  {
   "id": 3,
   "name": "Tele_Atlas_ROADS_MAJOR 2",
   "parentLayerId": -1,
   "defaultVisibility": true,
   "subLayerIds": null,
   "minScale": 3000000,
   "maxScale": 73000
  },
  {
   "id": 4,
   "name": "Tele_Atlas_ROADS_MAJOR 3",
   "parentLayerId": -1,
   "defaultVisibility": true,
   "subLayerIds": null,
   "minScale": 73000,
   "maxScale": 0
  },
  {
   "id": 5,
   "name": "Tele_Atlas_ROADS_MAIN 1",
   "parentLayerId": -1,
   "defaultVisibility": true,
   "subLayerIds": null,
   "minScale": 145000,
   "maxScale": 20000
  },
  {
   "id": 6,
   "name": "Tele_Atlas_ROADS_MAIN 2 18000",
   "parentLayerId": -1,
   "defaultVisibility": true,
   "subLayerIds": null,
   "minScale": 20000,
   "maxScale": 18000
  },
  {
   "id": 7,
   "name": "Tele_Atlas_ROADS_MAIN 2 18000",
   "parentLayerId": -1,
   "defaultVisibility": true,
   "subLayerIds": null,
   "minScale": 18000,
   "maxScale": 0
  },
  {
   "id": 8,
   "name": "Tele_Atlas_ROADS_SEC 1",
   "parentLayerId": -1,
   "defaultVisibility": false,
   "subLayerIds": null,
   "minScale": 60000,
   "maxScale": 18000
  },
  {
   "id": 9,
   "name": "Tele_Atlas_ROADS_SEC 2",
   "parentLayerId": -1,
   "defaultVisibility": false,
   "subLayerIds": null,
   "minScale": 18000,
   "maxScale": 0
  },
  {
   "id": 10,
   "name": "Tele_Atlas_ROAD_SEG_resolved 2",
   "parentLayerId": -1,
   "defaultVisibility": false,
   "subLayerIds": null,
   "minScale": 5000,
   "maxScale": 1000
  },
  {
   "id": 11,
   "name": "Tele_Atlas_RAILWAYS",
   "parentLayerId": -1,
   "defaultVisibility": false,
   "subLayerIds": null,
   "minScale": 40000,
   "maxScale": 1000
  },
  {
   "id": 12,
   "name": "Tele_Atlas_RIVERS",
   "parentLayerId": -1,
   "defaultVisibility": false,
   "subLayerIds": null,
   "minScale": 800000,
   "maxScale": 0
  },
  {
   "id": 13,
   "name": "Tele_Atlas_WATER_AREAS",
   "parentLayerId": -1,
   "defaultVisibility": true,
   "subLayerIds": null,
   "minScale": 4000000,
   "maxScale": 1000
  },
  {
   "id": 14,
   "name": "Tele_Atlas_PARKS",
   "parentLayerId": -1,
   "defaultVisibility": true,
   "subLayerIds": null,
   "minScale": 72223.819286,
   "maxScale": 0
  },
  {
   "id": 15,
   "name": "Tele_Atlas_BUILT_UP_AREAS",
   "parentLayerId": -1,
   "defaultVisibility": true,
   "subLayerIds": null,
   "minScale": 4622324.434309,
   "maxScale": 0
  },
  {
   "id": 16,
   "name": "Tele_Atlas_PRV_STATES",
   "parentLayerId": -1,
   "defaultVisibility": true,
   "subLayerIds": null,
   "minScale": 0,
   "maxScale": 0
  },
  {
   "id": 17,
   "name": "WORLD_Continents_RSAcropped",
   "parentLayerId": -1,
   "defaultVisibility": true,
   "subLayerIds": null,
   "minScale": 0,
   "maxScale": 0
  },
  {
   "id": 18,
   "name": "ETOPO1_Bed_g_geotiff.tif",
   "parentLayerId": -1,
   "defaultVisibility": true,
   "subLayerIds": null,
   "minScale": 0,
   "maxScale": 0
  }
 ],
 "tables": [],
 "spatialReference": {
  "wkid": 4326,
  "latestWkid": 4326
 },
 "singleFusedMapCache": true,
 "tileInfo": {
  "rows": 256,
  "cols": 256,
  "dpi": 96,
  "format": "PNG8",
  "compressionQuality": 0,
  "origin": {
   "x": -400,
   "y": 400
  },
  "spatialReference": {
   "wkid": 4326,
   "latestWkid": 4326
  },
  "lods": [
   {
    "level": 0,
    "resolution": 1.4078260157100582,
    "scale": 5.91657527591555E8
   },
   {
    "level": 1,
    "resolution": 0.703913007855028,
    "scale": 2.95828763795777E8
   },
   {
    "level": 2,
    "resolution": 0.35195650392751515,
    "scale": 1.47914381897889E8
   },
   {
    "level": 3,
    "resolution": 0.17597825196375638,
    "scale": 7.3957190948944E7
   },
   {
    "level": 4,
    "resolution": 0.08798912598187819,
    "scale": 3.6978595474472E7
   },
   {
    "level": 5,
    "resolution": 0.043994562990939096,
    "scale": 1.8489297737236E7
   },
   {
    "level": 6,
    "resolution": 0.021997281495469548,
    "scale": 9244648.868618
   },
   {
    "level": 7,
    "resolution": 0.010998640747734774,
    "scale": 4622324.434309
   },
   {
    "level": 8,
    "resolution": 0.005499320373868577,
    "scale": 2311162.217155
   },
   {
    "level": 9,
    "resolution": 0.0027496601869330985,
    "scale": 1155581.108577
   },
   {
    "level": 10,
    "resolution": 0.001374830093467739,
    "scale": 577790.554289
   },
   {
    "level": 11,
    "resolution": 6.874150467326798E-4,
    "scale": 288895.277144
   },
   {
    "level": 12,
    "resolution": 3.437075233663399E-4,
    "scale": 144447.638572
   },
   {
    "level": 13,
    "resolution": 1.7185376168316996E-4,
    "scale": 72223.819286
   },
   {
    "level": 14,
    "resolution": 8.592688084158498E-5,
    "scale": 36111.909643
   },
   {
    "level": 15,
    "resolution": 4.296344042198222E-5,
    "scale": 18055.954822
   },
   {
    "level": 16,
    "resolution": 2.148172021099111E-5,
    "scale": 9027.977411
   },
   {
    "level": 17,
    "resolution": 1.0740860104305824E-5,
    "scale": 4513.988705
   },
   {
    "level": 18,
    "resolution": 5.3704300533426425E-6,
    "scale": 2256.994353
   }
  ]
 },
 "initialExtent": {
  "xmin": 25.138830657315317,
  "ymin": -25.654836426296697,
  "xmax": 33.76176500353939,
  "ymax": -21.54134478664389,
  "spatialReference": {
   "wkid": 4326,
   "latestWkid": 4326
  }
 },
 "fullExtent": {
  "xmin": -180,
  "ymin": -90,
  "xmax": 180.00000000000057,
  "ymax": 90,
  "spatialReference": {
   "wkid": 4326,
   "latestWkid": 4326
  }
 },
 "minScale": 5.91657527591555E8,
 "maxScale": 2256.994353,
 "units": "esriDecimalDegrees",
 "supportedImageFormatTypes": "PNG32,PNG24,PNG,JPG,DIB,TIFF,EMF,PS,PDF,GIF,SVG,SVGZ,BMP",
 "documentInfo": {
  "Title": "",
  "Author": "",
  "Comments": "lighter version Basemap",
  "Subject": "lighter version Basemap",
  "Category": "",
  "AntialiasingMode": "None",
  "TextAntialiasingMode": "Force",
  "Keywords": ""
 },
 "capabilities": "Map,Query,Data",
 "supportedQueryFormats": "JSON, AMF",
 "exportTilesAllowed": false,
 "maxRecordCount": 1000,
 "maxImageHeight": 4096,
 "maxImageWidth": 4096,
 "supportedExtensions": "WMSServer"
}
