{
 "currentVersion": 10.31,
 "serviceDescription": "Internal Basemap",
 "mapName": "Layers",
 "description": "",
 "copyrightText": "Openserve 2021",
 "supportsDynamicLayers": true,
 "layers": [
  {
   "id": 0,
   "name": "Telkom Direct Shops",
   "parentLayerId": -1,
   "defaultVisibility": true,
   "subLayerIds": null,
   "minScale": 37000,
   "maxScale": 0
  },
  {
   "id": 1,
   "name": "Tele_Atlas_POI 2 - 20000",
   "parentLayerId": -1,
   "defaultVisibility": true,
   "subLayerIds": null,
   "minScale": 19000,
   "maxScale": 1200
  },
  {
   "id": 2,
   "name": "Tele_Atlas_POI 2 - 1200",
   "parentLayerId": -1,
   "defaultVisibility": true,
   "subLayerIds": null,
   "minScale": 1200,
   "maxScale": 0
  },
  {
   "id": 3,
   "name": "ADDRESS_MASTER_PNT",
   "parentLayerId": -1,
   "defaultVisibility": true,
   "subLayerIds": null,
   "minScale": 2300,
   "maxScale": 0
  },
  {
   "id": 4,
   "name": "Gated_Communities19000",
   "parentLayerId": -1,
   "defaultVisibility": true,
   "subLayerIds": null,
   "minScale": 19000,
   "maxScale": 1200
  },
  {
   "id": 5,
   "name": "Gated_Communities 1200",
   "parentLayerId": -1,
   "defaultVisibility": true,
   "subLayerIds": null,
   "minScale": 1200,
   "maxScale": 0
  },
  {
   "id": 6,
   "name": "Tele_Atlas_TOWNS",
   "parentLayerId": -1,
   "defaultVisibility": true,
   "subLayerIds": null,
   "minScale": 9244650,
   "maxScale": 2000000
  },
  {
   "id": 7,
   "name": "Tele_Atlas_TOWNS",
   "parentLayerId": -1,
   "defaultVisibility": true,
   "subLayerIds": null,
   "minScale": 2000000,
   "maxScale": 300000
  },
  {
   "id": 8,
   "name": "Tele_Atlas_TOWNS",
   "parentLayerId": -1,
   "defaultVisibility": true,
   "subLayerIds": null,
   "minScale": 300000,
   "maxScale": 37000
  },
  {
   "id": 9,
   "name": "Tele_Atlas_ROADS_MAJOR 1",
   "parentLayerId": -1,
   "defaultVisibility": true,
   "subLayerIds": null,
   "minScale": 19000000,
   "maxScale": 8000000
  },
  {
   "id": 10,
   "name": "Tele_Atlas_ROADS_MAJOR 2",
   "parentLayerId": -1,
   "defaultVisibility": true,
   "subLayerIds": null,
   "minScale": 8000000,
   "maxScale": 73000
  },
  {
   "id": 11,
   "name": "Tele_Atlas_ROADS_MAJOR 3",
   "parentLayerId": -1,
   "defaultVisibility": true,
   "subLayerIds": null,
   "minScale": 73000,
   "maxScale": 0
  },
  {
   "id": 12,
   "name": "Tele_Atlas_ROADS_MAIN 1",
   "parentLayerId": -1,
   "defaultVisibility": true,
   "subLayerIds": null,
   "minScale": 2000000,
   "maxScale": 290000
  },
  {
   "id": 13,
   "name": "Tele_Atlas_ROADS_MAIN 2",
   "parentLayerId": -1,
   "defaultVisibility": true,
   "subLayerIds": null,
   "minScale": 290000,
   "maxScale": 20000
  },
  {
   "id": 14,
   "name": "Tele_Atlas_ROADS_MAIN 4 18000",
   "parentLayerId": -1,
   "defaultVisibility": true,
   "subLayerIds": null,
   "minScale": 20000,
   "maxScale": 18000
  },
  {
   "id": 15,
   "name": "Tele_Atlas_ROADS_MAIN 4 18000",
   "parentLayerId": -1,
   "defaultVisibility": true,
   "subLayerIds": null,
   "minScale": 18000,
   "maxScale": 0
  },
  {
   "id": 16,
   "name": "Tele_Atlas_ROADS_SEC",
   "parentLayerId": -1,
   "defaultVisibility": true,
   "subLayerIds": null,
   "minScale": 500000,
   "maxScale": 50000
  },
  {
   "id": 17,
   "name": "Tele_Atlas_ROAD_SEG_resolved 1",
   "parentLayerId": -1,
   "defaultVisibility": true,
   "subLayerIds": null,
   "minScale": 32000,
   "maxScale": 18000
  },
  {
   "id": 18,
   "name": "Tele_Atlas_ROAD_SEG_resolved 2",
   "parentLayerId": -1,
   "defaultVisibility": true,
   "subLayerIds": null,
   "minScale": 18000,
   "maxScale": 2300
  },
  {
   "id": 19,
   "name": "Tele_Atlas_ROAD_SEG_resolved 3",
   "parentLayerId": -1,
   "defaultVisibility": true,
   "subLayerIds": null,
   "minScale": 2300,
   "maxScale": 0
  },
  {
   "id": 20,
   "name": "Tele_Atlas_RAILWAYS",
   "parentLayerId": -1,
   "defaultVisibility": true,
   "subLayerIds": null,
   "minScale": 145000,
   "maxScale": 1000
  },
  {
   "id": 21,
   "name": "Tele_Atlas_SUBURBS2",
   "parentLayerId": -1,
   "defaultVisibility": true,
   "subLayerIds": null,
   "minScale": 65000,
   "maxScale": 0
  },
  {
   "id": 22,
   "name": "Erven",
   "parentLayerId": -1,
   "defaultVisibility": true,
   "subLayerIds": null,
   "minScale": 12000,
   "maxScale": 0
  },
  {
   "id": 23,
   "name": "Tele_Atlas_RIVERS",
   "parentLayerId": -1,
   "defaultVisibility": true,
   "subLayerIds": null,
   "minScale": 800000,
   "maxScale": 2000
  },
  {
   "id": 24,
   "name": "Tele_Atlas_WATER_AREAS1",
   "parentLayerId": -1,
   "defaultVisibility": true,
   "subLayerIds": null,
   "minScale": 12000000,
   "maxScale": 37000
  },
  {
   "id": 25,
   "name": "Tele_Atlas_WATER_AREAS2",
   "parentLayerId": -1,
   "defaultVisibility": true,
   "subLayerIds": null,
   "minScale": 37000,
   "maxScale": 0
  },
  {
   "id": 26,
   "name": "Tele_Atlas_PARKS",
   "parentLayerId": -1,
   "defaultVisibility": true,
   "subLayerIds": null,
   "minScale": 0,
   "maxScale": 0
  },
  {
   "id": 27,
   "name": "Tele_Atlas_LANDUSE",
   "parentLayerId": -1,
   "defaultVisibility": false,
   "subLayerIds": null,
   "minScale": 577790.554289,
   "maxScale": 1000
  },
  {
   "id": 28,
   "name": "Tele_Atlas_BUILT_UP_AREAS",
   "parentLayerId": -1,
   "defaultVisibility": true,
   "subLayerIds": null,
   "minScale": 0,
   "maxScale": 0
  },
  {
   "id": 29,
   "name": "Tele_Atlas_PRV_STATES",
   "parentLayerId": -1,
   "defaultVisibility": true,
   "subLayerIds": null,
   "minScale": 0,
   "maxScale": 0
  },
  {
   "id": 30,
   "name": "WORLD_Continents_RSAcropped",
   "parentLayerId": -1,
   "defaultVisibility": true,
   "subLayerIds": null,
   "minScale": 0,
   "maxScale": 0
  },
  {
   "id": 31,
   "name": "ETOPO1_Bed_g_geotiff.tif",
   "parentLayerId": -1,
   "defaultVisibility": true,
   "subLayerIds": null,
   "minScale": 0,
   "maxScale": 0
  }
 ],
 "tables": [],
 "spatialReference": {
  "wkid": 4148,
  "latestWkid": 4148
 },
 "singleFusedMapCache": true,
 "tileInfo": {
  "rows": 256,
  "cols": 256,
  "dpi": 96,
  "format": "PNG8",
  "compressionQuality": 0,
  "origin": {
   "x": -400,
   "y": 400
  },
  "spatialReference": {
   "wkid": 4148,
   "latestWkid": 4148
  },
  "lods": [
   {
    "level": 0,
    "resolution": 1.4078260157100582,
    "scale": 5.91657527591555E8
   },
   {
    "level": 1,
    "resolution": 0.703913007855028,
    "scale": 2.95828763795777E8
   },
   {
    "level": 2,
    "resolution": 0.35195650392751515,
    "scale": 1.47914381897889E8
   },
   {
    "level": 3,
    "resolution": 0.17597825196375638,
    "scale": 7.3957190948944E7
   },
   {
    "level": 4,
    "resolution": 0.08798912598187819,
    "scale": 3.6978595474472E7
   },
   {
    "level": 5,
    "resolution": 0.043994562990939096,
    "scale": 1.8489297737236E7
   },
   {
    "level": 6,
    "resolution": 0.021997281495469548,
    "scale": 9244648.868618
   },
   {
    "level": 7,
    "resolution": 0.010998640747734774,
    "scale": 4622324.434309
   },
   {
    "level": 8,
    "resolution": 0.005499320373868577,
    "scale": 2311162.217155
   },
   {
    "level": 9,
    "resolution": 0.0027496601869330985,
    "scale": 1155581.108577
   },
   {
    "level": 10,
    "resolution": 0.001374830093467739,
    "scale": 577790.554289
   },
   {
    "level": 11,
    "resolution": 6.874150467326798E-4,
    "scale": 288895.277144
   },
   {
    "level": 12,
    "resolution": 3.437075233663399E-4,
    "scale": 144447.638572
   },
   {
    "level": 13,
    "resolution": 1.7185376168316996E-4,
    "scale": 72223.819286
   },
   {
    "level": 14,
    "resolution": 8.592688084158498E-5,
    "scale": 36111.909643
   },
   {
    "level": 15,
    "resolution": 4.296344042198222E-5,
    "scale": 18055.954822
   },
   {
    "level": 16,
    "resolution": 2.148172021099111E-5,
    "scale": 9027.977411
   },
   {
    "level": 17,
    "resolution": 1.0740860104305824E-5,
    "scale": 4513.988705
   },
   {
    "level": 18,
    "resolution": 5.3704300533426425E-6,
    "scale": 2256.994353
   },
   {
    "level": 19,
    "resolution": 2.685215025481591E-6,
    "scale": 1128.497176
   }
  ]
 },
 "initialExtent": {
  "xmin": 18.078864835398605,
  "ymin": -34.29375930028191,
  "xmax": 20.16035759690876,
  "ymax": -33.47573539466861,
  "spatialReference": {
   "cs": "gcs",
   "wkid": 4148
  }
 },
 "fullExtent": {
  "xmin": -180.00833333333333,
  "ymin": -90.00833333333328,
  "xmax": 180.00833333333333,
  "ymax": 90.00833333333334,
  "spatialReference": {
   "cs": "gcs",
   "wkid": 4148
  }
 },
 "minScale": 2.95828763795777E8,
 "maxScale": 2256.994353,
 "units": "esriDecimalDegrees",
 "supportedImageFormatTypes": "PNG32,PNG24,PNG,JPG,DIB,TIFF,EMF,PS,PDF,GIF,SVG,SVGZ,BMP",
 "documentInfo": {
  "Title": "",
  "Author": "",
  "Comments": "Internal Basemap",
  "Subject": "temp slide loading basedata",
  "Category": "",
  "AntialiasingMode": "None",
  "TextAntialiasingMode": "Force",
  "Keywords": "Internal Basemap"
 },
 "capabilities": "Map,Query,Data",
 "supportedQueryFormats": "JSON, AMF",
 "exportTilesAllowed": false,
 "maxRecordCount": 1000,
 "maxImageHeight": 4096,
 "maxImageWidth": 4096,
 "supportedExtensions": ""
}
