{
 "currentVersion": 10.31,
 "serviceDescription": "Openserve FTTH coverage WGS",
 "mapName": "Layers",
 "description": "",
 "copyrightText": "GIS Bureau - Openserve",
 "supportsDynamicLayers": false,
 "layers": [
  {
   "id": 0,
   "name": "FTTH FSB",
   "parentLayerId": -1,
   "defaultVisibility": true,
   "subLayerIds": null,
   "minScale": 0,
   "maxScale": 0
  },
  {
   "id": 1,
   "name": "FDA PROJECT",
   "parentLayerId": -1,
   "defaultVisibility": true,
   "subLayerIds": null,
   "minScale": 0,
   "maxScale": 0
  }
 ],
 "tables": [],
 "spatialReference": {
  "wkid": 4326,
  "latestWkid": 4326
 },
 "singleFusedMapCache": true,
 "tileInfo": {
  "rows": 256,
  "cols": 256,
  "dpi": 96,
  "format": "PNG8",
  "compressionQuality": 0,
  "origin": {
   "x": -400,
   "y": 400
  },
  "spatialReference": {
   "wkid": 4326,
   "latestWkid": 4326
  },
  "lods": [
   {
    "level": 0,
    "resolution": 1.4078260157100582,
    "scale": 5.91657527591555E8
   },
   {
    "level": 1,
    "resolution": 0.703913007855028,
    "scale": 2.95828763795777E8
   },
   {
    "level": 2,
    "resolution": 0.35195650392751515,
    "scale": 1.47914381897889E8
   },
   {
    "level": 3,
    "resolution": 0.17597825196375638,
    "scale": 7.3957190948944E7
   },
   {
    "level": 4,
    "resolution": 0.08798912598187819,
    "scale": 3.6978595474472E7
   },
   {
    "level": 5,
    "resolution": 0.043994562990939096,
    "scale": 1.8489297737236E7
   },
   {
    "level": 6,
    "resolution": 0.021997281495469548,
    "scale": 9244648.868618
   },
   {
    "level": 7,
    "resolution": 0.010998640747734774,
    "scale": 4622324.434309
   },
   {
    "level": 8,
    "resolution": 0.005499320373868577,
    "scale": 2311162.217155
   },
   {
    "level": 9,
    "resolution": 0.0027496601869330985,
    "scale": 1155581.108577
   },
   {
    "level": 10,
    "resolution": 0.001374830093467739,
    "scale": 577790.554289
   },
   {
    "level": 11,
    "resolution": 6.874150467326798E-4,
    "scale": 288895.277144
   },
   {
    "level": 12,
    "resolution": 3.437075233663399E-4,
    "scale": 144447.638572
   },
   {
    "level": 13,
    "resolution": 1.7185376168316996E-4,
    "scale": 72223.819286
   },
   {
    "level": 14,
    "resolution": 8.592688084158498E-5,
    "scale": 36111.909643
   },
   {
    "level": 15,
    "resolution": 4.296344042198222E-5,
    "scale": 18055.954822
   },
   {
    "level": 16,
    "resolution": 2.148172021099111E-5,
    "scale": 9027.977411
   },
   {
    "level": 17,
    "resolution": 1.0740860104305824E-5,
    "scale": 4513.988705
   },
   {
    "level": 18,
    "resolution": 5.3704300533426425E-6,
    "scale": 2256.994353
   }
  ]
 },
 "initialExtent": {
  "xmin": 27.938390243886055,
  "ymin": -26.01669313461423,
  "xmax": 28.13084105003761,
  "ymax": -25.945499661319786,
  "spatialReference": {
   "cs": "gcs",
   "wkid": 4326
  }
 },
 "fullExtent": {
  "xmin": -180,
  "ymin": -90,
  "xmax": 180,
  "ymax": 90,
  "spatialReference": {
   "cs": "gcs",
   "wkid": 4326
  }
 },
 "minScale": 5.91657527591555E8,
 "maxScale": 4513.988705,
 "units": "esriDecimalDegrees",
 "supportedImageFormatTypes": "PNG32,PNG24,PNG,JPG,DIB,TIFF,EMF,PS,PDF,GIF,SVG,SVGZ,BMP",
 "documentInfo": {
  "Title": "Openserve FTTH coverage Hart94",
  "Author": "",
  "Comments": "Openserve FTTH coverageGCS_Hartebeesthoek_1994",
  "Subject": "Openserve FTTH coverage",
  "Category": "",
  "AntialiasingMode": "None",
  "TextAntialiasingMode": "Force",
  "Keywords": "FTTH Coverage"
 },
 "capabilities": "Map,Query,Data",
 "supportedQueryFormats": "JSON, AMF",
 "exportTilesAllowed": false,
 "maxRecordCount": 1000,
 "maxImageHeight": 4096,
 "maxImageWidth": 4096,
 "supportedExtensions": "WMSServer"
}
